BEGIN:VCALENDAR
VERSION:2.0
PRODID:-//Stonebridge Farm CSA - ECPv6.15.13.1//NONSGML v1.0//EN
CALSCALE:GREGORIAN
METHOD:PUBLISH
X-ORIGINAL-URL:https://stonebridgefarmcsa.com
X-WR-CALDESC:Events for Stonebridge Farm CSA
REFRESH-INTERVAL;VALUE=DURATION:PT1H
X-Robots-Tag:noindex
X-PUBLISHED-TTL:PT1H
BEGIN:VTIMEZONE
TZID:America/Denver
BEGIN:DAYLIGHT
TZOFFSETFROM:-0700
TZOFFSETTO:-0600
TZNAME:MDT
DTSTART:20130310T090000
END:DAYLIGHT
BEGIN:STANDARD
TZOFFSETFROM:-0600
TZOFFSETTO:-0700
TZNAME:MST
DTSTART:20131103T080000
END:STANDARD
BEGIN:DAYLIGHT
TZOFFSETFROM:-0700
TZOFFSETTO:-0600
TZNAME:MDT
DTSTART:20140309T090000
END:DAYLIGHT
BEGIN:STANDARD
TZOFFSETFROM:-0600
TZOFFSETTO:-0700
TZNAME:MST
DTSTART:20141102T080000
END:STANDARD
BEGIN:DAYLIGHT
TZOFFSETFROM:-0700
TZOFFSETTO:-0600
TZNAME:MDT
DTSTART:20150308T090000
END:DAYLIGHT
BEGIN:STANDARD
TZOFFSETFROM:-0600
TZOFFSETTO:-0700
TZNAME:MST
DTSTART:20151101T080000
END:STANDARD
END:VTIMEZONE
BEGIN:VEVENT
DTSTART;TZID=America/Denver:20140614T110000
DTEND;TZID=America/Denver:20140614T130000
DTSTAMP:20260423T135155
CREATED:20150613T170036Z
LAST-MODIFIED:20150427T184105Z
UID:475-1402743600-1402750800@stonebridgefarmcsa.com
SUMMARY:Stonebridge Pancake Breakfast
DESCRIPTION:Bring a topping to share!
URL:https://stonebridgefarmcsa.com/event/stonebridge-pancake-breakfast
LOCATION:Stonebridge Farm\, 5169 Ute Hwy\, Longmont\, CO\, United States
CATEGORIES:Meals
ORGANIZER;CN="Kayann Short":MAILTO:kshort@greenspeedisp.net
END:VEVENT
END:VCALENDAR