BEGIN:VCALENDAR
VERSION:2.0
PRODID:-//Stonebridge Farm CSA - ECPv6.15.13.1//NONSGML v1.0//EN
CALSCALE:GREGORIAN
METHOD:PUBLISH
X-WR-CALNAME:Stonebridge Farm CSA
X-ORIGINAL-URL:https://stonebridgefarmcsa.com
X-WR-CALDESC:Events for Stonebridge Farm CSA
REFRESH-INTERVAL;VALUE=DURATION:PT1H
X-Robots-Tag:noindex
X-PUBLISHED-TTL:PT1H
BEGIN:VTIMEZONE
TZID:America/Denver
BEGIN:DAYLIGHT
TZOFFSETFROM:-0700
TZOFFSETTO:-0600
TZNAME:MDT
DTSTART:20160313T090000
END:DAYLIGHT
BEGIN:STANDARD
TZOFFSETFROM:-0600
TZOFFSETTO:-0700
TZNAME:MST
DTSTART:20161106T080000
END:STANDARD
BEGIN:DAYLIGHT
TZOFFSETFROM:-0700
TZOFFSETTO:-0600
TZNAME:MDT
DTSTART:20170312T090000
END:DAYLIGHT
BEGIN:STANDARD
TZOFFSETFROM:-0600
TZOFFSETTO:-0700
TZNAME:MST
DTSTART:20171105T080000
END:STANDARD
BEGIN:DAYLIGHT
TZOFFSETFROM:-0700
TZOFFSETTO:-0600
TZNAME:MDT
DTSTART:20180311T090000
END:DAYLIGHT
BEGIN:STANDARD
TZOFFSETFROM:-0600
TZOFFSETTO:-0700
TZNAME:MST
DTSTART:20181104T080000
END:STANDARD
END:VTIMEZONE
BEGIN:VEVENT
DTSTART;TZID=America/Denver:20171216T090000
DTEND;TZID=America/Denver:20171216T160000
DTSTAMP:20260423T210123
CREATED:20171118T012337Z
LAST-MODIFIED:20171118T012337Z
UID:857-1513414800-1513440000@stonebridgefarmcsa.com
SUMMARY:Stonebridge Holiday Fair
DESCRIPTION:Enjoy holiday shopping and more with local artisans at the Stonebridge Holiday Fair\, Saturday\, December 16 from 9 AM until 4 PM in the Sunflower Community Room at Stonebridge Farm\, 5169 Ute Highway\, Longmont\, Colorado\, on highway 66 east of the 36/66 junction. Artisans include Amber Lights 100% beeswax candles; Stonebridge handcranked socks\, farm cards\, and Stonebridge Farm Winery organic wine; Lia Pileggi pottery; Apple Ridge Soaps & Salves; Priscilla Cohan pottery; Good Medicine Sheep Ranch yarn and hats; and Lucy Designs jewelry. Find farm-fresh gifts made by local artisans for everyone on your list!
URL:https://stonebridgefarmcsa.com/event/stonebridge-holiday-fair
LOCATION:Stonebridge Farm\, 5169 Ute Hwy\, Longmont\, CO\, United States
CATEGORIES:Holiday Fair
END:VEVENT
END:VCALENDAR