BEGIN:VCALENDAR
VERSION:2.0
PRODID:-//Stonebridge Farm CSA - ECPv6.15.13.1//NONSGML v1.0//EN
CALSCALE:GREGORIAN
METHOD:PUBLISH
X-WR-CALNAME:Stonebridge Farm CSA
X-ORIGINAL-URL:http://stonebridgefarmcsa.com
X-WR-CALDESC:Events for Stonebridge Farm CSA
REFRESH-INTERVAL;VALUE=DURATION:PT1H
X-Robots-Tag:noindex
X-PUBLISHED-TTL:PT1H
BEGIN:VTIMEZONE
TZID:America/Denver
BEGIN:DAYLIGHT
TZOFFSETFROM:-0700
TZOFFSETTO:-0600
TZNAME:MDT
DTSTART:20130310T090000
END:DAYLIGHT
BEGIN:STANDARD
TZOFFSETFROM:-0600
TZOFFSETTO:-0700
TZNAME:MST
DTSTART:20131103T080000
END:STANDARD
BEGIN:DAYLIGHT
TZOFFSETFROM:-0700
TZOFFSETTO:-0600
TZNAME:MDT
DTSTART:20140309T090000
END:DAYLIGHT
BEGIN:STANDARD
TZOFFSETFROM:-0600
TZOFFSETTO:-0700
TZNAME:MST
DTSTART:20141102T080000
END:STANDARD
BEGIN:DAYLIGHT
TZOFFSETFROM:-0700
TZOFFSETTO:-0600
TZNAME:MDT
DTSTART:20150308T090000
END:DAYLIGHT
BEGIN:STANDARD
TZOFFSETFROM:-0600
TZOFFSETTO:-0700
TZNAME:MST
DTSTART:20151101T080000
END:STANDARD
BEGIN:DAYLIGHT
TZOFFSETFROM:-0700
TZOFFSETTO:-0600
TZNAME:MDT
DTSTART:20160313T090000
END:DAYLIGHT
BEGIN:STANDARD
TZOFFSETFROM:-0600
TZOFFSETTO:-0700
TZNAME:MST
DTSTART:20161106T080000
END:STANDARD
BEGIN:DAYLIGHT
TZOFFSETFROM:-0700
TZOFFSETTO:-0600
TZNAME:MDT
DTSTART:20170312T090000
END:DAYLIGHT
BEGIN:STANDARD
TZOFFSETFROM:-0600
TZOFFSETTO:-0700
TZNAME:MST
DTSTART:20171105T080000
END:STANDARD
BEGIN:DAYLIGHT
TZOFFSETFROM:-0700
TZOFFSETTO:-0600
TZNAME:MDT
DTSTART:20180311T090000
END:DAYLIGHT
BEGIN:STANDARD
TZOFFSETFROM:-0600
TZOFFSETTO:-0700
TZNAME:MST
DTSTART:20181104T080000
END:STANDARD
BEGIN:DAYLIGHT
TZOFFSETFROM:-0700
TZOFFSETTO:-0600
TZNAME:MDT
DTSTART:20190310T090000
END:DAYLIGHT
BEGIN:STANDARD
TZOFFSETFROM:-0600
TZOFFSETTO:-0700
TZNAME:MST
DTSTART:20191103T080000
END:STANDARD
BEGIN:DAYLIGHT
TZOFFSETFROM:-0700
TZOFFSETTO:-0600
TZNAME:MDT
DTSTART:20200308T090000
END:DAYLIGHT
BEGIN:STANDARD
TZOFFSETFROM:-0600
TZOFFSETTO:-0700
TZNAME:MST
DTSTART:20201101T080000
END:STANDARD
BEGIN:DAYLIGHT
TZOFFSETFROM:-0700
TZOFFSETTO:-0600
TZNAME:MDT
DTSTART:20210314T090000
END:DAYLIGHT
BEGIN:STANDARD
TZOFFSETFROM:-0600
TZOFFSETTO:-0700
TZNAME:MST
DTSTART:20211107T080000
END:STANDARD
BEGIN:DAYLIGHT
TZOFFSETFROM:-0700
TZOFFSETTO:-0600
TZNAME:MDT
DTSTART:20220313T090000
END:DAYLIGHT
BEGIN:STANDARD
TZOFFSETFROM:-0600
TZOFFSETTO:-0700
TZNAME:MST
DTSTART:20221106T080000
END:STANDARD
BEGIN:DAYLIGHT
TZOFFSETFROM:-0700
TZOFFSETTO:-0600
TZNAME:MDT
DTSTART:20230312T090000
END:DAYLIGHT
BEGIN:STANDARD
TZOFFSETFROM:-0600
TZOFFSETTO:-0700
TZNAME:MST
DTSTART:20231105T080000
END:STANDARD
BEGIN:DAYLIGHT
TZOFFSETFROM:-0700
TZOFFSETTO:-0600
TZNAME:MDT
DTSTART:20240310T090000
END:DAYLIGHT
BEGIN:STANDARD
TZOFFSETFROM:-0600
TZOFFSETTO:-0700
TZNAME:MST
DTSTART:20241103T080000
END:STANDARD
BEGIN:DAYLIGHT
TZOFFSETFROM:-0700
TZOFFSETTO:-0600
TZNAME:MDT
DTSTART:20250309T090000
END:DAYLIGHT
BEGIN:STANDARD
TZOFFSETFROM:-0600
TZOFFSETTO:-0700
TZNAME:MST
DTSTART:20251102T080000
END:STANDARD
END:VTIMEZONE
BEGIN:VEVENT
DTSTART;VALUE=DATE:20241214
DTEND;VALUE=DATE:20241215
DTSTAMP:20260424T131022
CREATED:20241120T142428Z
LAST-MODIFIED:20241120T142428Z
UID:875-1734134400-1734220799@stonebridgefarmcsa.com
SUMMARY:Stonebridge Farm Holiday Fair
DESCRIPTION:You’ll find Christmas gifts and more at the Stonebridge Holiday Fair\, Saturday\, December 14th\, from 9 AM to 4 PM. Local handmade crafts by Stonebridge CSA farm member artists include Lia Pileggi ceramics and art; Amber Lights 100% beeswax candles; Apple Ridge soaps\, salves\, and wooden spatulas; Good Medicine Sheep Ranch hand-dyed yarns and felted fashion; Lucy Designs handcrafted jewelry and folk-inspired ornaments and accessories; Such & Co. hand-drawn art cards and bird boxes; and Stonebridge Farm’s hand-cranked socks\, wristers\, and yoga socks\, holiday crafts\, and farm honey. Chickenhouse Red and Cottonwood White wine grown and vinted at Stonebridge Farm Winery will also be available\, as well as Raspberry and Golden meads brewed from Stonebridge honey. Demonstrations of circular sock making on a vintage knitting machine and treats too! Stonebridge Farm is located at 5169 Ute Highway east of the 36/66 junction. Look for the big red farmhouse on the north side. For more information\, contact Kayann Short at kshort@greenspeedisp.net.
URL:http://stonebridgefarmcsa.com/event/stonebridge-farm-holiday-fair
LOCATION:Stonebridge Farm\, 5169 Ute Hwy\, Longmont\, CO\, United States
END:VEVENT
BEGIN:VEVENT
DTSTART;TZID=America/Denver:20241119T080000
DTEND;TZID=America/Denver:20241119T170000
DTSTAMP:20260424T131022
CREATED:20241119T155045Z
LAST-MODIFIED:20241119T155229Z
UID:874-1732003200-1732035600@stonebridgefarmcsa.com
SUMMARY:Stonebridge Holiday Fair
DESCRIPTION:Join farm artisans on Saturday\, December 14\, from 9 AM – 4 PM\, for the Stonebridge Holiday Fair!  \nLocal handmade crafts by Stonebridge CSA farm member artists include Lia Pileggi ceramics and art; Amber Lights 100% beeswax candles; Apple Ridge soaps\, salves\, and wooden spatulas; Good Medicine Sheep Ranch hand-dyed yarns and felted fashion; Lucy Designs handcrafted jewelry and folk-inspired ornaments and accessories; Such & Co. hand-drawn art cards and bird boxes; and Stonebridge Farm’s hand-cranked socks\, wristers\, and yoga socks\, holiday crafts\, and farm honey. Chickenhouse Red and Cottonwood White wine grown and vinted at Stonebridge Farm Winery will also be available\, as well as Raspberry and Golden meads brewed from Stonebridge honey. Demonstrations of circular sock making on a vintage knitting machine and treats too! Stonebridge Farm is located at 5169 Ute Highway east of the 36/66 junction. Look for the big red farmhouse on the north side.
URL:http://stonebridgefarmcsa.com/event/stonebridge-holiday-fair-2
LOCATION:CO
END:VEVENT
BEGIN:VEVENT
DTSTART;TZID=America/Denver:20221210T090000
DTEND;TZID=America/Denver:20221210T160000
DTSTAMP:20260424T131022
CREATED:20221203T042716Z
LAST-MODIFIED:20221203T042716Z
UID:872-1670662800-1670688000@stonebridgefarmcsa.com
SUMMARY:Stonebridge Holiday Fair 2022
DESCRIPTION:You’ll find Christmas gifts and more at the Stonebridge Holiday Fair\, Saturday\, December 10th\, from 9 AM to 4 PM. Crafts by Stonebridge CSA member artists include Amber Lights 100% beeswax candles; Priscilla Cohan pottery; Apple Ridge soaps\, salves\, wooden spatulas\, and bird feeders; Good Medicine Sheep Ranch hand-dyed yarns and felted hats\, Lucy Designs jewelry; Dave Such art cards; and Stonebridge Farm’s hand cranked socks\, holiday crafts and vintage treasurees\, and farm honey. Also for sale will be Chickenhouse Red and Cottonwood White wine grown and vinted at Stonebridge Farm Winery. Demonstrations of circular sock knitting and treats too! Stonebridge Farm is located at 5169 Ute Highway east of the 36/66 junction. For more information\, contact Kayann Short at kshort@greenspeedisp.net. \n 
URL:http://stonebridgefarmcsa.com/event/stonebridge-holiday-fair-2022
LOCATION:Stonebridge Farm\, 5169 Ute Hwy\, Longmont\, CO\, United States
END:VEVENT
BEGIN:VEVENT
DTSTART;TZID=America/Denver:20171216T090000
DTEND;TZID=America/Denver:20171216T160000
DTSTAMP:20260424T131022
CREATED:20171118T012337Z
LAST-MODIFIED:20171118T012337Z
UID:857-1513414800-1513440000@stonebridgefarmcsa.com
SUMMARY:Stonebridge Holiday Fair
DESCRIPTION:Enjoy holiday shopping and more with local artisans at the Stonebridge Holiday Fair\, Saturday\, December 16 from 9 AM until 4 PM in the Sunflower Community Room at Stonebridge Farm\, 5169 Ute Highway\, Longmont\, Colorado\, on highway 66 east of the 36/66 junction. Artisans include Amber Lights 100% beeswax candles; Stonebridge handcranked socks\, farm cards\, and Stonebridge Farm Winery organic wine; Lia Pileggi pottery; Apple Ridge Soaps & Salves; Priscilla Cohan pottery; Good Medicine Sheep Ranch yarn and hats; and Lucy Designs jewelry. Find farm-fresh gifts made by local artisans for everyone on your list!
URL:http://stonebridgefarmcsa.com/event/stonebridge-holiday-fair
LOCATION:Stonebridge Farm\, 5169 Ute Hwy\, Longmont\, CO\, United States
CATEGORIES:Holiday Fair
END:VEVENT
BEGIN:VEVENT
DTSTART;TZID=America/Denver:20160918T043000
DTEND;TZID=America/Denver:20160918T200000
DTSTAMP:20260424T131022
CREATED:20160918T060006Z
LAST-MODIFIED:20160918T184501Z
UID:764-1474173000-1474228800@stonebridgefarmcsa.com
SUMMARY:25th Anniversary Harvest Concert and Potluck
DESCRIPTION:Join us for our annual harvest concert and potluck with talented local musicians. This year we’ll be celebrating Stonebridge’s 25th anniversary season! Stay tuned for more information!
URL:http://stonebridgefarmcsa.com/event/25th-anniversary-harvest-concert-and-potluck
LOCATION:Stonebridge Farm\, 5169 Ute Hwy\, Longmont\, CO\, United States
CATEGORIES:Concerts
END:VEVENT
BEGIN:VEVENT
DTSTART;TZID=America/Denver:20160724T090000
DTEND;TZID=America/Denver:20160724T163000
DTSTAMP:20260424T131022
CREATED:20160511T184424Z
LAST-MODIFIED:20160718T160930Z
UID:768-1469350800-1469377800@stonebridgefarmcsa.com
SUMMARY:Women’s Yoga and Creativity Retreat
DESCRIPTION:Bring fresh energy to your summer by rejuvenating your senses and stimulating your imagination with a day devoted to yoga and creativity practice. Join yoga teacher Lisa Limoge and author/teacher Kayann Short for an enriching women’s yoga and creativity retreat in the Sunflower Community Room at Stonebridge Farm. Lisa will lead a posture flow followed by lingering poses to unleash the creative impulse. Kayann will guide creativity practice through imaginative and practical steps for envisioning anew. A new what? Let’s find out. \n\n\n\nNourish yourself with a day of playful yoga and creative renewal \nLisa Limoge began practicing yoga intuitively as a teenager in Burlington\, Vermont\, and 20 years ago turned her passion into a full time career. Hosting women’s retreats has been a natural evolution\nof her many years of teaching yoga\, doing massage\, & growing up with five sisters. Lisa holds certifications in Kripalu and Kali Ray and teaches internationally. \nKayann Short is co-owner of Stonebridge Farm and the author of A Bushel’s Worth: An Ecobiography. She taught writing for thirty years at the University of Colorado and now facilitates individual and group writing and visualization practice. Kayann combines down-to-earth instruction with over-the-moon inspiration to expand expression and regenerate spirit. \nAll levels of experience welcome. Wholesome snacks and lunch with fresh Stonebridge vegetables included. \nTo register\, contact Kayann Short at 303-823-0975 or kshort@greenspeedisp.net\n48-hour cancellation required for return of payment.
URL:http://stonebridgefarmcsa.com/event/womens-yoga-and-creativity-retreat
LOCATION:Stonebridge Farm\, 5169 Ute Hwy\, Longmont\, CO\, United States
END:VEVENT
BEGIN:VEVENT
DTSTART;TZID=America/Denver:20160604T160000
DTEND;TZID=America/Denver:20160604T180000
DTSTAMP:20260424T131022
CREATED:20160511T183837Z
LAST-MODIFIED:20160511T183921Z
UID:767-1465056000-1465063200@stonebridgefarmcsa.com
SUMMARY:Second Annual Cheesemaking Contest with Farm Tour and Wine & Cheese Sampling
DESCRIPTION:Join The Art of Cheese for our second annual Home-Cheesemaking Contest\, along with Wine & Cheese Sampling\, Baby Goats and more (you don’t have to enter cheese to join in the fun)! \nEnter your homemade cheeses for a chance to win prizes and recognition – judges will be Jessica Beer and Julie Snarr\, both from Cured in Boulder. \nThis year’s contest will be held at Stonebridge Farm – Boulder County’s oldest CSA now growing and making wine from their own farmstead grapes! \nYour ticket price will include cheese tastings (homemade cheeses as well as many delicious varieties from Haystack Mountain Cheese)\, wine tastings from Stonebridge Farm’s own winery (Chickenhouse Red and Cottonwood White\, blended with cold-hardy wines farm-crafted on the Lyons redstone soils right there at the farm)\, tours of the farm and visiting with baby goats from nearby Briar Gate Farm. \nYou’ll also have the opportunity to buy bottles of wine from Stonebridge and cheeses from Haystack (15% of the cheese sales will be donated to local 4-H club Goats & Galore). \nRegister at http://theartofcheese.com/event/second-annual-cheesemaking-contest-wine-cheese-sampling-400-600-pm/
URL:http://stonebridgefarmcsa.com/event/second-annual-cheesemaking-contest-with-farm-tour-and-wine-cheese-sampling
LOCATION:Stonebridge Farm\, 5169 Ute Hwy\, Longmont\, CO\, United States
END:VEVENT
BEGIN:VEVENT
DTSTART;TZID=America/Denver:20151031T110000
DTEND;TZID=America/Denver:20151031T140000
DTSTAMP:20260424T131022
CREATED:20150427T185326Z
LAST-MODIFIED:20150427T185326Z
UID:708-1446289200-1446300000@stonebridgefarmcsa.com
SUMMARY:Stonebridge End of Season Halloween Party
DESCRIPTION:
URL:http://stonebridgefarmcsa.com/event/stonebridge-end-of-season-halloween-party
LOCATION:Stonebridge Farm\, 5169 Ute Hwy\, Longmont\, CO\, United States
CATEGORIES:Parties
END:VEVENT
BEGIN:VEVENT
DTSTART;TZID=America/Denver:20150927T090000
DTEND;TZID=America/Denver:20150927T170000
DTSTAMP:20260424T131022
CREATED:20150826T005932Z
LAST-MODIFIED:20150826T005932Z
UID:727-1443344400-1443373200@stonebridgefarmcsa.com
SUMMARY:Write Your Heart Out Women's Writing Workshop
DESCRIPTION:When we have a story to tell\, chronological order only gets us so far. This workshop will focus on spiraling out from a beginning point to create deeper layers of meaning and expression. Working from first thoughts and elusive intuitions\, we’ll shape a story to reflect its keenest heart. Let imaginative and practical guidance inspire creative movement through supported interaction. This workshop is open to women from all levels of experience and interest in story-centered writing. $95/lunch included. Contact kshort@greenspeedisp.net to register.
URL:http://stonebridgefarmcsa.com/event/write-your-heart-out-womens-writing-workshop
LOCATION:Stonebridge Farm\, 5169 Ute Hwy\, Longmont\, CO\, United States
ORGANIZER;CN="Kayann Short":MAILTO:kshort@greenspeedisp.net
END:VEVENT
BEGIN:VEVENT
DTSTART;TZID=America/Denver:20150926T130000
DTEND;TZID=America/Denver:20150926T160000
DTSTAMP:20260424T131022
CREATED:20150427T190149Z
LAST-MODIFIED:20150427T190149Z
UID:709-1443272400-1443283200@stonebridgefarmcsa.com
SUMMARY:Wine Grape Harvesting & Vinting Workshop
DESCRIPTION:
URL:http://stonebridgefarmcsa.com/event/wine-grape-harvesting-vinting-workshop
LOCATION:CO
CATEGORIES:Backyard Viticulture
END:VEVENT
BEGIN:VEVENT
DTSTART;TZID=America/Denver:20150920T170000
DTEND;TZID=America/Denver:20150920T193000
DTSTAMP:20260424T131022
CREATED:20150427T185137Z
LAST-MODIFIED:20150826T010123Z
UID:707-1442768400-1442777400@stonebridgefarmcsa.com
SUMMARY:Stonebridge Harvest Potluck & Campfire Concert
DESCRIPTION:Bring a dish to share; sing with local musicians Joe Kuckla and Jennifer Ward Hogdson around the campfire; celebrate the bounty of the harvest season. $10 suggested donation.
URL:http://stonebridgefarmcsa.com/event/stonebridge-harvest-concert
LOCATION:Stonebridge Farm\, 5169 Ute Hwy\, Longmont\, CO\, United States
CATEGORIES:Concerts
END:VEVENT
BEGIN:VEVENT
DTSTART;TZID=America/Denver:20150918T053000
DTEND;TZID=America/Denver:20150918T193000
DTSTAMP:20260424T131022
CREATED:20150826T005642Z
LAST-MODIFIED:20150826T010152Z
UID:725-1442554200-1442604600@stonebridgefarmcsa.com
SUMMARY:Dirt: A Love Story Book Launch & Hoedown
DESCRIPTION:Join Colorado authors and editor Barbara K Richardson for the book release of Dirt: A Love Story (University of New England Press). Dance to Tupelo Honey; stomp some dirt; meet the authors; buy signed copies; drink and celebrate; get your feet dirty. 
URL:http://stonebridgefarmcsa.com/event/dirt-a-love-story-book-launch-hoedown
LOCATION:Stonebridge Farm\, 5169 Ute Hwy\, Longmont\, CO\, United States
END:VEVENT
BEGIN:VEVENT
DTSTART;TZID=America/Denver:20150613T110000
DTEND;TZID=America/Denver:20150613T130000
DTSTAMP:20260424T131022
CREATED:20150427T184441Z
LAST-MODIFIED:20150427T184441Z
UID:705-1434193200-1434200400@stonebridgefarmcsa.com
SUMMARY:Stonebridge Pancake Breakfast
DESCRIPTION:
URL:http://stonebridgefarmcsa.com/event/stonebridge-pancake-breakfast-2
LOCATION:Stonebridge Farm\, 5169 Ute Hwy\, Longmont\, CO\, United States
END:VEVENT
BEGIN:VEVENT
DTSTART;TZID=America/Denver:20140921T130000
DTEND;TZID=America/Denver:20140921T160000
DTSTAMP:20260424T131022
CREATED:20150926T070003Z
LAST-MODIFIED:20150427T184016Z
UID:478-1411304400-1411315200@stonebridgefarmcsa.com
SUMMARY:Wine Grape Harvesting Workshop
DESCRIPTION:Hands-on harvesting\, crushing & vinting of Stonebridge grapes. 
URL:http://stonebridgefarmcsa.com/event/478
LOCATION:Stonebridge Farm\, 5169 Ute Hwy\, Longmont\, CO\, United States
CATEGORIES:Backyard Viticulture
ORGANIZER;CN="John Martin":MAILTO:jmartin@greenspeedisp.net
END:VEVENT
BEGIN:VEVENT
DTSTART;TZID=America/Denver:20140914T140000
DTEND;TZID=America/Denver:20140914T170000
DTSTAMP:20260424T131022
CREATED:20150920T080039Z
LAST-MODIFIED:20150427T184038Z
UID:477-1410703200-1410714000@stonebridgefarmcsa.com
SUMMARY:Harvest Concert
DESCRIPTION:With Michelle Allen\, Joe Kuckla\, and friends. 
URL:http://stonebridgefarmcsa.com/event/harvest-concert
LOCATION:Stonebridge Farm\, 5169 Ute Hwy\, Longmont\, CO\, United States
CATEGORIES:Concerts
ORGANIZER;CN="Kayann Short":MAILTO:kshort@greenspeedisp.net
END:VEVENT
BEGIN:VEVENT
DTSTART;TZID=America/Denver:20140614T110000
DTEND;TZID=America/Denver:20140614T130000
DTSTAMP:20260424T131022
CREATED:20150613T170036Z
LAST-MODIFIED:20150427T184105Z
UID:475-1402743600-1402750800@stonebridgefarmcsa.com
SUMMARY:Stonebridge Pancake Breakfast
DESCRIPTION:Bring a topping to share!
URL:http://stonebridgefarmcsa.com/event/stonebridge-pancake-breakfast
LOCATION:Stonebridge Farm\, 5169 Ute Hwy\, Longmont\, CO\, United States
CATEGORIES:Meals
ORGANIZER;CN="Kayann Short":MAILTO:kshort@greenspeedisp.net
END:VEVENT
BEGIN:VEVENT
DTSTART;TZID=America/Denver:20140426T140000
DTEND;TZID=America/Denver:20140426T170000
DTSTAMP:20260424T131022
CREATED:20140320T050920Z
LAST-MODIFIED:20140320T051902Z
UID:474-1398520800-1398531600@stonebridgefarmcsa.com
SUMMARY:Grape Pruning Workshop
DESCRIPTION:Learn the essentials of grape pruning.
URL:http://stonebridgefarmcsa.com/event/grape-pruning-workshop
LOCATION:Stonebridge Farm\, 5169 Ute Hwy\, Longmont\, CO\, United States
CATEGORIES:Backyard Viticulture
ORGANIZER;CN="John Martin":MAILTO:jmartin@greenspeedisp.net
END:VEVENT
END:VCALENDAR